BEGIN:VCALENDAR
VERSION:2.0
PRODID:-//Prevent Child Abuse Indiana - ECPv6.15.20//NONSGML v1.0//EN
CALSCALE:GREGORIAN
METHOD:PUBLISH
X-ORIGINAL-URL:https://pcain.org
X-WR-CALDESC:Events for Prevent Child Abuse Indiana
REFRESH-INTERVAL;VALUE=DURATION:PT1H
X-Robots-Tag:noindex
X-PUBLISHED-TTL:PT1H
BEGIN:VTIMEZONE
TZID:America/Indiana/Indianapolis
BEGIN:DAYLIGHT
TZOFFSETFROM:-0500
TZOFFSETTO:-0400
TZNAME:EDT
DTSTART:20220313T070000
END:DAYLIGHT
BEGIN:STANDARD
TZOFFSETFROM:-0400
TZOFFSETTO:-0500
TZNAME:EST
DTSTART:20221106T060000
END:STANDARD
BEGIN:DAYLIGHT
TZOFFSETFROM:-0500
TZOFFSETTO:-0400
TZNAME:EDT
DTSTART:20230312T070000
END:DAYLIGHT
BEGIN:STANDARD
TZOFFSETFROM:-0400
TZOFFSETTO:-0500
TZNAME:EST
DTSTART:20231105T060000
END:STANDARD
BEGIN:DAYLIGHT
TZOFFSETFROM:-0500
TZOFFSETTO:-0400
TZNAME:EDT
DTSTART:20240310T070000
END:DAYLIGHT
BEGIN:STANDARD
TZOFFSETFROM:-0400
TZOFFSETTO:-0500
TZNAME:EST
DTSTART:20241103T060000
END:STANDARD
END:VTIMEZONE
BEGIN:VEVENT
DTSTART;TZID=America/Indiana/Indianapolis:20230623T093000
DTEND;TZID=America/Indiana/Indianapolis:20230623T143000
DTSTAMP:20260424T074803
CREATED:20230426T151926Z
LAST-MODIFIED:20230531T181540Z
UID:5395-1687512600-1687530600@pcain.org
SUMMARY:PCAIN 2023 Northern Indiana Prevention Council Retreat/Community Workshop
DESCRIPTION:  \n  \n\nThank you for your interest in attending the Northern Indiana Prevent Child Abuse Indiana’s 2023 Regional Prevention Council Retreat/Community Lunch n’ Learn Workshop.  The first part of this event is mainly for current PCAIN Prevention Council members\, but if anyone is interested in joining a council in their county or forming a council in a county without a council\, they are more than welcome to attend. \nRegistration Link for Prevention Council Members\nIf you want to attend just the afternoon Community Workshop\, Click Here
URL:https://pcain.org/event/pcain-2023-northern-indiana-prevention-council-retreat-community-workshop/
LOCATION:Dunebrook\, Inc\, 7451 West Johnson Road\, Michigan City\, IN\, 46360\, United States
END:VEVENT
BEGIN:VEVENT
DTSTART;TZID=America/Indiana/Indianapolis:20230623T130000
DTEND;TZID=America/Indiana/Indianapolis:20230623T143000
DTSTAMP:20260424T074803
CREATED:20230426T151619Z
LAST-MODIFIED:20230531T180555Z
UID:5390-1687525200-1687530600@pcain.org
SUMMARY:PCAIN 2023 Northern Indiana Community Workshop
DESCRIPTION:Registration Link for the Community Workshop\, CLICK HERE
URL:https://pcain.org/event/pcain-2023-northern-indiana-community-workshop/
LOCATION:Dunebrook\, Inc\, 7451 West Johnson Road\, Michigan City\, IN\, 46360\, United States
END:VEVENT
END:VCALENDAR