BEGIN:VCALENDAR
VERSION:2.0
PRODID:-//Prevent Child Abuse Indiana - ECPv6.15.20//NONSGML v1.0//EN
CALSCALE:GREGORIAN
METHOD:PUBLISH
X-ORIGINAL-URL:https://pcain.org
X-WR-CALDESC:Events for Prevent Child Abuse Indiana
REFRESH-INTERVAL;VALUE=DURATION:PT1H
X-Robots-Tag:noindex
X-PUBLISHED-TTL:PT1H
BEGIN:VTIMEZONE
TZID:America/Indiana/Indianapolis
BEGIN:DAYLIGHT
TZOFFSETFROM:-0500
TZOFFSETTO:-0400
TZNAME:EDT
DTSTART:20220313T070000
END:DAYLIGHT
BEGIN:STANDARD
TZOFFSETFROM:-0400
TZOFFSETTO:-0500
TZNAME:EST
DTSTART:20221106T060000
END:STANDARD
BEGIN:DAYLIGHT
TZOFFSETFROM:-0500
TZOFFSETTO:-0400
TZNAME:EDT
DTSTART:20230312T070000
END:DAYLIGHT
BEGIN:STANDARD
TZOFFSETFROM:-0400
TZOFFSETTO:-0500
TZNAME:EST
DTSTART:20231105T060000
END:STANDARD
BEGIN:DAYLIGHT
TZOFFSETFROM:-0500
TZOFFSETTO:-0400
TZNAME:EDT
DTSTART:20240310T070000
END:DAYLIGHT
BEGIN:STANDARD
TZOFFSETFROM:-0400
TZOFFSETTO:-0500
TZNAME:EST
DTSTART:20241103T060000
END:STANDARD
END:VTIMEZONE
BEGIN:VEVENT
DTSTART;TZID=America/Indiana/Indianapolis:20231115T130000
DTEND;TZID=America/Indiana/Indianapolis:20231115T140000
DTSTAMP:20260421T162316
CREATED:20231010T170328Z
LAST-MODIFIED:20231031T191252Z
UID:5680-1700053200-1700056800@pcain.org
SUMMARY:Safe Tots Training
DESCRIPTION:Topic:  SafeTots \nDate:   RESCHEDULED TO NOVEMBER 15th \nTime:  1:00 – 2:00 pm \nSpeaker:  Carol Pool\, MSW\, PCAIN Prevention Education Specialist \nDescription:  This presentation touches on a variety of safety issues\, including SIS/Abusive Head Trauma\, the Safe Haven Law\, Water Safety & Safe Sleep practices.  We will also touch on Firearm Safety and Know Your Partner/Caregiver. \nTraining Time: 1 Hour \nAudience: Adolescents\, Caregivers/Parents\, Community\, Professionals \nIMPORTANT:  A Pre-Training Assessment Link will be emailed to you prior to the training.  Please complete this Pre-Training Assessment before the training.  After the training you will receive an email with the Post-Training Assessment.  Once you complete your Post-Training Assessment our office will email you the Training Certificate within 48 business hours. \nJust a reminder that if you register as a couple or a group\, each person will need to complete an Assessment/Survey to qualify for a Training Certificate. \nWhen registering\, be sure to type in your email address accurately because that is how you will receive the Link for the TEAMS online training. The Confirmation email will come from “The Villages”. \n  \nClick Here to Register
URL:https://pcain.org/event/safe-tots-training/
LOCATION:Virtual
ATTACH;FMTTYPE=image/png:https://pcain.org/wp-content/uploads/2023/07/SafeTots-Zoom.png
END:VEVENT
END:VCALENDAR