BEGIN:VCALENDAR
VERSION:2.0
PRODID:-//Prevent Child Abuse Indiana - ECPv6.15.20//NONSGML v1.0//EN
CALSCALE:GREGORIAN
METHOD:PUBLISH
X-WR-CALNAME:Prevent Child Abuse Indiana
X-ORIGINAL-URL:https://pcain.org
X-WR-CALDESC:Events for Prevent Child Abuse Indiana
REFRESH-INTERVAL;VALUE=DURATION:PT1H
X-Robots-Tag:noindex
X-PUBLISHED-TTL:PT1H
BEGIN:VTIMEZONE
TZID:America/Indiana/Indianapolis
BEGIN:DAYLIGHT
TZOFFSETFROM:-0500
TZOFFSETTO:-0400
TZNAME:EDT
DTSTART:20230312T070000
END:DAYLIGHT
BEGIN:STANDARD
TZOFFSETFROM:-0400
TZOFFSETTO:-0500
TZNAME:EST
DTSTART:20231105T060000
END:STANDARD
BEGIN:DAYLIGHT
TZOFFSETFROM:-0500
TZOFFSETTO:-0400
TZNAME:EDT
DTSTART:20240310T070000
END:DAYLIGHT
BEGIN:STANDARD
TZOFFSETFROM:-0400
TZOFFSETTO:-0500
TZNAME:EST
DTSTART:20241103T060000
END:STANDARD
BEGIN:DAYLIGHT
TZOFFSETFROM:-0500
TZOFFSETTO:-0400
TZNAME:EDT
DTSTART:20250309T070000
END:DAYLIGHT
BEGIN:STANDARD
TZOFFSETFROM:-0400
TZOFFSETTO:-0500
TZNAME:EST
DTSTART:20251102T060000
END:STANDARD
END:VTIMEZONE
BEGIN:VTIMEZONE
TZID:UTC
BEGIN:STANDARD
TZOFFSETFROM:+0000
TZOFFSETTO:+0000
TZNAME:UTC
DTSTART:20230101T000000
END:STANDARD
END:VTIMEZONE
BEGIN:VEVENT
DTSTART;TZID=America/Indiana/Indianapolis:20240110T130000
DTEND;TZID=America/Indiana/Indianapolis:20240110T143000
DTSTAMP:20260421T113536
CREATED:20240102T144850Z
LAST-MODIFIED:20240102T144850Z
UID:5776-1704891600-1704897000@pcain.org
SUMMARY:Child Abuse 102: Impact of Violence on Young Children
DESCRIPTION:This presentation defines and discusses: \n\nThe consequences of maltreatment and violence on children during the early years of their development\nProblematic vs. natural sexual behavior in children\nHow to integrate and adapt prevention activities\nHow to incorporate national standards regarding prevention of child abuse and neglect\nMandated Child Abuse/Neglect Reporting responsibilities\n\n  \nTraining Time:  1.5 Hours \n  \nAudience: Early Intervention Professionals\, Early Childhood Education Professionals\, Social Service Staff (must be age 18 or older) \n  \nWARNING:  If you are attending this virtual training at home\, please be sure to either use headphones or be alone while attending. Some information may not be suitable for younger children. \nIMPORTANT:  A Pre-Training Assessment Link will be emailed to you prior to the training.  Please complete this Pre-Training Assessment before the training.  After the training you will receive an email with the Post-Training Assessment.  Once you complete your Post-Training Assessment our office will email you the Training Certificate within 48 business hours. \nJust a reminder that if you register as a couple or a group\, each person will need to complete an Assessment/Survey to qualify for a Training Certificate. \nWhen registering\, be sure to type in your NAME & EMAIL address accurately because that is how you will receive the Link for the TEAMS online training emailed to you from “The Villages”. \n  \nClick HERE to Register \n 
URL:https://pcain.org/event/child-abuse-102-impact-of-violence-on-young-children-2/
LOCATION:Virtual
ATTACH;FMTTYPE=image/png:https://pcain.org/wp-content/uploads/2021/02/Child-Abuse-102-FB.png
END:VEVENT
BEGIN:VEVENT
DTSTART;TZID=UTC:20240110T183000
DTEND;TZID=UTC:20240110T203000
DTSTAMP:20260421T113536
CREATED:20231017T143735Z
LAST-MODIFIED:20231017T143735Z
UID:5703-1704911400-1704918600@pcain.org
SUMMARY:Nurturing Fathers Class Series Jan10-Feb28 2024
DESCRIPTION:Topic: Nurturing Fathers Community Class Series \nDate:  January 10 – February 28\, 2024 \nTime:  6:30pm-8:15p (EST) – for Eight (8) Consecutive Wednesdays \nTrainer: Brian Carter\, LSW\, Dads Inc Program Director & PCAIN Educational Prevention Specialist \nAudience:  Fathers\, Grandfathers\, Mentors & Adults in the Male Role \n\nEach prospective attendee will complete the Registration/Pre-Class Parent Inventory.\nBefore the class starts you will be emailed the Virtual Teams Link and the Program Workbook. The link will be used for each of the 8 Classes.\nAt the end of the class series\, attendees will complete a Post-Class Parent Inventory/Questionnaire. At this time\, you will be emailed a Training Completion Certificate.\n\n  \nClick Here to Register or\nScan the QR Code on the flyer.
URL:https://pcain.org/event/nurturing-fathers-class-series-jan10-feb28-2024/
LOCATION:Virtual
ATTACH;FMTTYPE=image/jpeg:https://pcain.org/wp-content/uploads/2023/10/Nurturing-Fathers-Community-Flyer-Jan10-Feb28-2024.jpg
END:VEVENT
END:VCALENDAR