BEGIN:VCALENDAR
VERSION:2.0
PRODID:-//Prevent Child Abuse Indiana - ECPv6.15.20//NONSGML v1.0//EN
CALSCALE:GREGORIAN
METHOD:PUBLISH
X-ORIGINAL-URL:https://pcain.org
X-WR-CALDESC:Events for Prevent Child Abuse Indiana
REFRESH-INTERVAL;VALUE=DURATION:PT1H
X-Robots-Tag:noindex
X-PUBLISHED-TTL:PT1H
BEGIN:VTIMEZONE
TZID:America/Indiana/Indianapolis
BEGIN:DAYLIGHT
TZOFFSETFROM:-0500
TZOFFSETTO:-0400
TZNAME:EDT
DTSTART:20230312T070000
END:DAYLIGHT
BEGIN:STANDARD
TZOFFSETFROM:-0400
TZOFFSETTO:-0500
TZNAME:EST
DTSTART:20231105T060000
END:STANDARD
BEGIN:DAYLIGHT
TZOFFSETFROM:-0500
TZOFFSETTO:-0400
TZNAME:EDT
DTSTART:20240310T070000
END:DAYLIGHT
BEGIN:STANDARD
TZOFFSETFROM:-0400
TZOFFSETTO:-0500
TZNAME:EST
DTSTART:20241103T060000
END:STANDARD
BEGIN:DAYLIGHT
TZOFFSETFROM:-0500
TZOFFSETTO:-0400
TZNAME:EDT
DTSTART:20250309T070000
END:DAYLIGHT
BEGIN:STANDARD
TZOFFSETFROM:-0400
TZOFFSETTO:-0500
TZNAME:EST
DTSTART:20251102T060000
END:STANDARD
END:VTIMEZONE
BEGIN:VEVENT
DTSTART;TZID=America/Indiana/Indianapolis:20240417T090000
DTEND;TZID=America/Indiana/Indianapolis:20240417T133000
DTSTAMP:20260420T170532
CREATED:20240213T162035Z
LAST-MODIFIED:20240304T164913Z
UID:5870-1713344400-1713360600@pcain.org
SUMMARY:Grant County - Annual Training and Luncheon - April 17
DESCRIPTION:Use the QR Code or Click Here to Register
URL:https://pcain.org/event/grant-county-annual-training-and-luncheon-april-17/
LOCATION:Ivy Tech-Marion Campus\, 261 Commerce Drive\, Marion\, IN\, 46953\, United States
END:VEVENT
BEGIN:VEVENT
DTSTART;TZID=America/Indiana/Indianapolis:20240417T170000
DTEND;TZID=America/Indiana/Indianapolis:20240417T190000
DTSTAMP:20260420T170532
CREATED:20240313T165125Z
LAST-MODIFIED:20240313T165125Z
UID:5958-1713373200-1713380400@pcain.org
SUMMARY:Blackford County - Superhero Walk - Apr 17
DESCRIPTION:
URL:https://pcain.org/event/blackford-county-superhero-walk-apr-17/
LOCATION:Weiler Plaza\, 100 W Main St\, Hartford City\, IN\, 47348\, United States
END:VEVENT
END:VCALENDAR