BEGIN:VCALENDAR
VERSION:2.0
PRODID:-//Prevent Child Abuse Indiana - ECPv6.15.20//NONSGML v1.0//EN
CALSCALE:GREGORIAN
METHOD:PUBLISH
X-ORIGINAL-URL:https://pcain.org
X-WR-CALDESC:Events for Prevent Child Abuse Indiana
REFRESH-INTERVAL;VALUE=DURATION:PT1H
X-Robots-Tag:noindex
X-PUBLISHED-TTL:PT1H
BEGIN:VTIMEZONE
TZID:America/Indiana/Indianapolis
BEGIN:DAYLIGHT
TZOFFSETFROM:-0500
TZOFFSETTO:-0400
TZNAME:EDT
DTSTART:20240310T070000
END:DAYLIGHT
BEGIN:STANDARD
TZOFFSETFROM:-0400
TZOFFSETTO:-0500
TZNAME:EST
DTSTART:20241103T060000
END:STANDARD
BEGIN:DAYLIGHT
TZOFFSETFROM:-0500
TZOFFSETTO:-0400
TZNAME:EDT
DTSTART:20250309T070000
END:DAYLIGHT
BEGIN:STANDARD
TZOFFSETFROM:-0400
TZOFFSETTO:-0500
TZNAME:EST
DTSTART:20251102T060000
END:STANDARD
BEGIN:DAYLIGHT
TZOFFSETFROM:-0500
TZOFFSETTO:-0400
TZNAME:EDT
DTSTART:20260308T070000
END:DAYLIGHT
BEGIN:STANDARD
TZOFFSETFROM:-0400
TZOFFSETTO:-0500
TZNAME:EST
DTSTART:20261101T060000
END:STANDARD
END:VTIMEZONE
BEGIN:VEVENT
DTSTART;TZID=America/Indiana/Indianapolis:20250411T090000
DTEND;TZID=America/Indiana/Indianapolis:20250411T110000
DTSTAMP:20260421T223435
CREATED:20250401T185440Z
LAST-MODIFIED:20250401T185440Z
UID:6554-1744362000-1744369200@pcain.org
SUMMARY:Partners in Prevention Breakfast
DESCRIPTION:
URL:https://pcain.org/event/partners-in-prevention-breakfast/
LOCATION:Health Foundation of LaPorte\, 140 E Shore Pkwy\, LaPorte\, IN\, 46350\, United States
END:VEVENT
BEGIN:VEVENT
DTSTART;TZID=America/Indiana/Indianapolis:20250411T170000
DTEND;TZID=America/Indiana/Indianapolis:20250411T200000
DTSTAMP:20260421T223435
CREATED:20250324T171922Z
LAST-MODIFIED:20250324T174019Z
UID:6477-1744390800-1744401600@pcain.org
SUMMARY:Wells County Superhero Walk
DESCRIPTION:Come dressed as your favorite superhero and walk alongside real-life superheroes working hard to ensure every child has a happy and healthy childhood. Capes and masks will be provided to the first 50 children in attendance. Meet at Lancaster Park Bluffton\, IN. Check out our touch the truck\, photo opportunities with the heroes\, and Batman reading the Parlor City Protection Statement! Walk starts at 5pm. Rain date will be April 27th.
URL:https://pcain.org/event/wells-county-superhero-walk/
LOCATION:Lancaster Park\, 200 E Jackson St N\, Bluffton\, IN\, 46714\, United States
END:VEVENT
END:VCALENDAR