BEGIN:VCALENDAR
VERSION:2.0
PRODID:-//Prevent Child Abuse Indiana - ECPv6.15.20//NONSGML v1.0//EN
CALSCALE:GREGORIAN
METHOD:PUBLISH
X-ORIGINAL-URL:https://pcain.org
X-WR-CALDESC:Events for Prevent Child Abuse Indiana
REFRESH-INTERVAL;VALUE=DURATION:PT1H
X-Robots-Tag:noindex
X-PUBLISHED-TTL:PT1H
BEGIN:VTIMEZONE
TZID:UTC
BEGIN:STANDARD
TZOFFSETFROM:+0000
TZOFFSETTO:+0000
TZNAME:UTC
DTSTART:20240101T000000
END:STANDARD
END:VTIMEZONE
BEGIN:VTIMEZONE
TZID:America/Indiana/Indianapolis
BEGIN:DAYLIGHT
TZOFFSETFROM:-0500
TZOFFSETTO:-0400
TZNAME:EDT
DTSTART:20240310T070000
END:DAYLIGHT
BEGIN:STANDARD
TZOFFSETFROM:-0400
TZOFFSETTO:-0500
TZNAME:EST
DTSTART:20241103T060000
END:STANDARD
BEGIN:DAYLIGHT
TZOFFSETFROM:-0500
TZOFFSETTO:-0400
TZNAME:EDT
DTSTART:20250309T070000
END:DAYLIGHT
BEGIN:STANDARD
TZOFFSETFROM:-0400
TZOFFSETTO:-0500
TZNAME:EST
DTSTART:20251102T060000
END:STANDARD
BEGIN:DAYLIGHT
TZOFFSETFROM:-0500
TZOFFSETTO:-0400
TZNAME:EDT
DTSTART:20260308T070000
END:DAYLIGHT
BEGIN:STANDARD
TZOFFSETFROM:-0400
TZOFFSETTO:-0500
TZNAME:EST
DTSTART:20261101T060000
END:STANDARD
END:VTIMEZONE
BEGIN:VEVENT
DTSTART;TZID=UTC:20250416T183000
DTEND;TZID=UTC:20250604T200000
DTSTAMP:20260421T223425
CREATED:20241210T152921Z
LAST-MODIFIED:20250326T152146Z
UID:6257-1744828200-1749067200@pcain.org
SUMMARY:Nurturing Fathers Class Series
DESCRIPTION:Topic: Nurturing Fathers Community Class Series \nDate:  April 16-June 4\, 2025 (register by April 11th) \nTime:  6:30pm-8:00p (EST) – for Eight (8) Consecutive Wednesdays \nAudience:  Fathers\, Grandfathers\, Mentors & Adults in the Male Role \n\nEach prospective attendee will complete the Registration/Pre-Class Parent Inventory.\nBefore the class starts you will be emailed the Virtual Teams Link and the Program Workbook. The link will be used for each of the 8 Classes.\nAt the end of the class series\, attendees will complete a Post-Class Parent Inventory/Questionnaire. At this time\, you will be emailed a Training Completion Certificate.\n\n  \nClick Here to Register or\nScan the QR Code on the flyer.
URL:https://pcain.org/event/nurturing-fathers-class-series-apr16-jun4-2025/
LOCATION:Virtual
ATTACH;FMTTYPE=image/png:https://pcain.org/wp-content/uploads/2024/12/2025-NF-Image-with-logos-1.png
END:VEVENT
BEGIN:VEVENT
DTSTART;VALUE=DATE:20250426
DTEND;VALUE=DATE:20250427
DTSTAMP:20260421T223425
CREATED:20250324T172553Z
LAST-MODIFIED:20250324T172553Z
UID:6483-1745625600-1745711999@pcain.org
SUMMARY:Jay County In Their Shoes
DESCRIPTION:For ages 14+. Teens will walk in the shoes of teen couples experiencing an unhealthy relationship through this interactive role play experience. Lunch and fun door prizes for those attending. To register a youth or watch the trailer find us on Facebook.
URL:https://pcain.org/event/jay-county-in-their-shoes/
END:VEVENT
BEGIN:VEVENT
DTSTART;TZID=America/Indiana/Indianapolis:20250426T090000
DTEND;TZID=America/Indiana/Indianapolis:20250426T110000
DTSTAMP:20260421T223425
CREATED:20250324T172659Z
LAST-MODIFIED:20250331T162106Z
UID:6484-1745658000-1745665200@pcain.org
SUMMARY:Adams County 9th Annual SAFE Carnival
DESCRIPTION:This is a free fun family event for the community that will offer lots of carnival games\, snacks and prizes! Enjoy crafts\, plinko\, cookie walk\, cornhole\, ring & bean bag toss\, bowling\, golf\, and basketball toss as well as a prize drawing.
URL:https://pcain.org/event/adams-county-9th-annual-safe-carnival/
LOCATION:Riverside Center\, Harvest Room\, 231 E Monroe St\, Decatur\, IN\, 46733\, United States
END:VEVENT
BEGIN:VEVENT
DTSTART;TZID=America/Indiana/Indianapolis:20250426T090000
DTEND;TZID=America/Indiana/Indianapolis:20250426T120000
DTSTAMP:20260421T223425
CREATED:20250407T170029Z
LAST-MODIFIED:20250407T170029Z
UID:6562-1745658000-1745668800@pcain.org
SUMMARY:Car Seat Clinic
DESCRIPTION:
URL:https://pcain.org/event/car-seat-clinic/
LOCATION:Bell Intermediate Academy\, 1459 E Columbus Street\, Martinsville\, IN\, United States
END:VEVENT
BEGIN:VEVENT
DTSTART;TZID=America/Indiana/Indianapolis:20250426T100000
DTEND;TZID=America/Indiana/Indianapolis:20250426T130000
DTSTAMP:20260421T223425
CREATED:20250407T170145Z
LAST-MODIFIED:20250407T170145Z
UID:6564-1745661600-1745672400@pcain.org
SUMMARY:Healthy Kids Day
DESCRIPTION:
URL:https://pcain.org/event/healthy-kids-day/
LOCATION:YMCA Soccer Fields\, 2039 E Morgan St\, Martinsville\, IN\, 46151\, United States
END:VEVENT
END:VCALENDAR