BEGIN:VCALENDAR
VERSION:2.0
PRODID:-//Prevent Child Abuse Indiana - ECPv6.15.20//NONSGML v1.0//EN
CALSCALE:GREGORIAN
METHOD:PUBLISH
X-ORIGINAL-URL:https://pcain.org
X-WR-CALDESC:Events for Prevent Child Abuse Indiana
REFRESH-INTERVAL;VALUE=DURATION:PT1H
X-Robots-Tag:noindex
X-PUBLISHED-TTL:PT1H
BEGIN:VTIMEZONE
TZID:America/Indiana/Indianapolis
BEGIN:DAYLIGHT
TZOFFSETFROM:-0500
TZOFFSETTO:-0400
TZNAME:EDT
DTSTART:20250309T070000
END:DAYLIGHT
BEGIN:STANDARD
TZOFFSETFROM:-0400
TZOFFSETTO:-0500
TZNAME:EST
DTSTART:20251102T060000
END:STANDARD
BEGIN:DAYLIGHT
TZOFFSETFROM:-0500
TZOFFSETTO:-0400
TZNAME:EDT
DTSTART:20260308T070000
END:DAYLIGHT
BEGIN:STANDARD
TZOFFSETFROM:-0400
TZOFFSETTO:-0500
TZNAME:EST
DTSTART:20261101T060000
END:STANDARD
BEGIN:DAYLIGHT
TZOFFSETFROM:-0500
TZOFFSETTO:-0400
TZNAME:EDT
DTSTART:20270314T070000
END:DAYLIGHT
BEGIN:STANDARD
TZOFFSETFROM:-0400
TZOFFSETTO:-0500
TZNAME:EST
DTSTART:20271107T060000
END:STANDARD
END:VTIMEZONE
BEGIN:VEVENT
DTSTART;TZID=America/Indiana/Indianapolis:20260401T080000
DTEND;TZID=America/Indiana/Indianapolis:20260401T080000
DTSTAMP:20260424T105430
CREATED:20260311T200216Z
LAST-MODIFIED:20260311T201255Z
UID:7351-1775030400-1775030400@pcain.org
SUMMARY:St. Joseph County Together for Kids Community Breakfast and Day of Learning
DESCRIPTION:St. Joseph County Together for Kids Community Breakfast and Day of Learning  \nThis event is sponsored by the St. Joseph County Prevent Child Abuse Council  \nEnjoy networking and a hot breakfast as WSBT anchor and emcee\, Kristin Bien leads some updates about local child abuse data. Dr. Harris and local experts will then share practical strategies for helping families avoid crisis through self-regulation\, connection with local resources\, advocacy and building strong relationships.   \n📅 Date: April 1\, 2026  \n⏰ Time: 8:00AM  \n📍 Location: St. Joseph County Public Library\, 305 South Michigan Street\, South Bend\, IN 46601 \n📝 Registration: Registration & Event Details  \n💲 Cost: Community Breakfast $20 from 8-9:30AM\, Day of Learning 10-4PM Free with lunch included  \n📞 Event Contact: Angie Skwarcan\, angie@casiecenter.org\, (574) 282-1414 
URL:https://pcain.org/event/st-joseph-county-together-for-kids-community-breakfast-and-day-of-learning/
END:VEVENT
BEGIN:VEVENT
DTSTART;TZID=America/Indiana/Indianapolis:20260401T100000
DTEND;TZID=America/Indiana/Indianapolis:20260401T100000
DTSTAMP:20260424T105430
CREATED:20260311T184359Z
LAST-MODIFIED:20260311T184406Z
UID:7350-1775037600-1775037600@pcain.org
SUMMARY:Child Abuse Prevention Month Kickoff at the Statehouse
DESCRIPTION:Child Abuse Prevention Month Kickoff at the Statehouse \nThis event is hosted by Prevent Child Abuse Indiana \nJoin us as we kick off Child Abuse Prevention Month! We are partnering with STARS for Children of Marion County and DCS for a special event at the Indiana Statehouse. Come hear from community leaders\, a survivor and community advocate\, and connect with several community partners. \n📅 Date: April 1\, 2026 \n⏰ Time: 10:00AM \n📍 Location: Indiana Statehouse\, 2nd Floor Atrium\, 200 W Washington St\, Indianapolis\, IN 46204 \n📝 Registration: Registration & Event Details \n💲 Cost: Free \n📞 Event Contact: Nicholle Probst\, nprobst@villages.org
URL:https://pcain.org/event/child-abuse-prevention-month-kickoff-at-the-statehouse/
END:VEVENT
BEGIN:VEVENT
DTSTART;TZID=America/Indiana/Indianapolis:20260401T120000
DTEND;TZID=America/Indiana/Indianapolis:20260401T120000
DTSTAMP:20260424T105430
CREATED:20260318T185329Z
LAST-MODIFIED:20260318T185333Z
UID:7405-1775044800-1775044800@pcain.org
SUMMARY:Tippecanoe Child Abuse Prevention Month Proclamation 
DESCRIPTION:Tippecanoe Child Abuse Prevention Month Proclamation  \nThis event is hosted by the Tippecanoe County Prevent Child Abuse Council  \nJoin community members\, advocates\, and local leaders will gather at the Courthouse Fountain for the official Child Abuse Prevention Proclamation. This brief event will highlight the importance of prevention\, awareness\, and supporting safe\, healthy environments for all children.  \nChild abuse prevention starts with strong families\, informed communities\, and people who are willing to speak up for children. We invite community members\, partners\, and supporters to attend as we stand together to promote the safety and well-being of children in our community.  \n  \n📅 Date: April 1\, 2026  \n⏰ Time: 12:00PM  \n📍 Location: Tippecanoe County Courthouse Fountain\, 301 N. Main St. Lafayette\, IN 47901\n📝 Registration: Registration & Event Details  \n💲 Cost: Free  \n📞 Event Contact: Ericka Lee\, tippchildabuseprevention@hotmail.com 
URL:https://pcain.org/event/tippecanoe-child-abuse-prevention-month-proclamation/
END:VEVENT
END:VCALENDAR