BEGIN:VCALENDAR
VERSION:2.0
PRODID:-//Prevent Child Abuse Indiana - ECPv6.15.20//NONSGML v1.0//EN
CALSCALE:GREGORIAN
METHOD:PUBLISH
X-WR-CALNAME:Prevent Child Abuse Indiana
X-ORIGINAL-URL:https://pcain.org
X-WR-CALDESC:Events for Prevent Child Abuse Indiana
REFRESH-INTERVAL;VALUE=DURATION:PT1H
X-Robots-Tag:noindex
X-PUBLISHED-TTL:PT1H
BEGIN:VTIMEZONE
TZID:America/Indiana/Indianapolis
BEGIN:DAYLIGHT
TZOFFSETFROM:-0500
TZOFFSETTO:-0400
TZNAME:EDT
DTSTART:20250309T070000
END:DAYLIGHT
BEGIN:STANDARD
TZOFFSETFROM:-0400
TZOFFSETTO:-0500
TZNAME:EST
DTSTART:20251102T060000
END:STANDARD
BEGIN:DAYLIGHT
TZOFFSETFROM:-0500
TZOFFSETTO:-0400
TZNAME:EDT
DTSTART:20260308T070000
END:DAYLIGHT
BEGIN:STANDARD
TZOFFSETFROM:-0400
TZOFFSETTO:-0500
TZNAME:EST
DTSTART:20261101T060000
END:STANDARD
BEGIN:DAYLIGHT
TZOFFSETFROM:-0500
TZOFFSETTO:-0400
TZNAME:EDT
DTSTART:20270314T070000
END:DAYLIGHT
BEGIN:STANDARD
TZOFFSETFROM:-0400
TZOFFSETTO:-0500
TZNAME:EST
DTSTART:20271107T060000
END:STANDARD
END:VTIMEZONE
BEGIN:VEVENT
DTSTART;TZID=America/Indiana/Indianapolis:20260419T140000
DTEND;TZID=America/Indiana/Indianapolis:20260419T140000
DTSTAMP:20260421T043410
CREATED:20260311T184039Z
LAST-MODIFIED:20260311T184045Z
UID:7345-1776607200-1776607200@pcain.org
SUMMARY:Steuben County Prevention Month Picnic
DESCRIPTION:Steuben County Prevention Month Picnic \nThis event is hosted by the Steuben County Prevent Child Abuse Council \nThe Steuben County Prevent Child Abuse Council invite all families to join us for a fun filled afternoon to celebrate Child Abuse Prevention Month! \nThere will be food trucks\, activities\, and resources from multiple service organizations! \n📅 Date: April 19\, 2026 \n⏰ Time: 2:00PM \n📍 Location: Selman Timber Frame Pavilion at Commons Park\, Circle Hill Cemetery Rd\, Angola\, IN 46703 \n📝 Registration: Registration & Event Details \n💲 Cost: Free \n📞 Event Contact: Holly Tetzloff\, htetzloff@irisfamily.org\, (260) 421-5093
URL:https://pcain.org/event/steuben-county-prevention-month-picnic/
END:VEVENT
BEGIN:VEVENT
DTSTART;TZID=America/Indiana/Indianapolis:20260419T163000
DTEND;TZID=America/Indiana/Indianapolis:20260419T163000
DTSTAMP:20260421T043410
CREATED:20260313T145850Z
LAST-MODIFIED:20260313T150033Z
UID:7352-1776616200-1776616200@pcain.org
SUMMARY:Superhero Walk of Grant County
DESCRIPTION:Superhero Walk of Grant County  \nThis event is hosted by the Grant County Prevent Child Abuse Council   \n  \nWalk and meet with local Superheroes law enforcement and first responders. Meet our other community partners and stop by and trunk or treat and learn what resources they have to offer in our community. All this while donning your favorite superhero outfit or you can get a cape will be provided!  \n   \n📅 Date: April 19\, 2026  \n⏰ Time: 4:30PM  \n📍 Location: Matter Park\, N River Rd &\, N Quarry Rd\, Marion\, IN 46952  \n📝 Registration: None required\, community partners interested in participating can email grantcountypca@gmail.com   \n💲 Cost: Free  \n📞 Event Contact: grantcountypca@gmail.com   
URL:https://pcain.org/event/superhero-walk-of-grant-county/
END:VEVENT
END:VCALENDAR