BEGIN:VCALENDAR
VERSION:2.0
PRODID:-//Prevent Child Abuse Indiana - ECPv6.15.20//NONSGML v1.0//EN
CALSCALE:GREGORIAN
METHOD:PUBLISH
X-WR-CALNAME:Prevent Child Abuse Indiana
X-ORIGINAL-URL:https://pcain.org
X-WR-CALDESC:Events for Prevent Child Abuse Indiana
REFRESH-INTERVAL;VALUE=DURATION:PT1H
X-Robots-Tag:noindex
X-PUBLISHED-TTL:PT1H
BEGIN:VTIMEZONE
TZID:America/Indiana/Indianapolis
BEGIN:DAYLIGHT
TZOFFSETFROM:-0500
TZOFFSETTO:-0400
TZNAME:EDT
DTSTART:20250309T070000
END:DAYLIGHT
BEGIN:STANDARD
TZOFFSETFROM:-0400
TZOFFSETTO:-0500
TZNAME:EST
DTSTART:20251102T060000
END:STANDARD
BEGIN:DAYLIGHT
TZOFFSETFROM:-0500
TZOFFSETTO:-0400
TZNAME:EDT
DTSTART:20260308T070000
END:DAYLIGHT
BEGIN:STANDARD
TZOFFSETFROM:-0400
TZOFFSETTO:-0500
TZNAME:EST
DTSTART:20261101T060000
END:STANDARD
BEGIN:DAYLIGHT
TZOFFSETFROM:-0500
TZOFFSETTO:-0400
TZNAME:EDT
DTSTART:20270314T070000
END:DAYLIGHT
BEGIN:STANDARD
TZOFFSETFROM:-0400
TZOFFSETTO:-0500
TZNAME:EST
DTSTART:20271107T060000
END:STANDARD
END:VTIMEZONE
BEGIN:VEVENT
DTSTART;VALUE=DATE:20260420
DTEND;VALUE=DATE:20260425
DTSTAMP:20260420T072842
CREATED:20260324T144309Z
LAST-MODIFIED:20260324T144313Z
UID:7435-1776643200-1777075199@pcain.org
SUMMARY:National Home Visiting Week 
DESCRIPTION:National Home Visiting Week  \nThis event is promoted by Prevent Child Abuse America.   \nCelebrate the dedication of home visitors and the impact of evidence-based home visiting in communities.  \n📅 Date: April 20-24\, 2026 
URL:https://pcain.org/event/national-home-visiting-week/
END:VEVENT
BEGIN:VEVENT
DTSTART;TZID=America/Indiana/Indianapolis:20260420T163000
DTEND;TZID=America/Indiana/Indianapolis:20260420T163000
DTSTAMP:20260420T072842
CREATED:20260316T200336Z
LAST-MODIFIED:20260316T200340Z
UID:7393-1776702600-1776702600@pcain.org
SUMMARY:Celebration in the Park of Franklin County
DESCRIPTION:Celebration in the Park of Franklin County  \nThis event is hosted by the Franklin County Prevent Child Abuse Council  \nThis free family friendly event aims to explore the story walk trail\, play games\, enjoy shaved ice\, and gather family resources.  \n  \n📅 Date: April 20\, 2026  \n⏰ Time: 4:30PM  \n📍 Location: Brookville Town Park\, CXGV+GW\, 900 Mill St\, Brookville\, IN 47012\n📝 Registration: For further details on how to get involved contact Jenny McCarrell  \n💲 Cost: Free  \n📞 Event Contact: Jenny McCarrell\, jmccarrell@fireflyin.org  
URL:https://pcain.org/event/celebration-in-the-park-of-franklin-county/
END:VEVENT
END:VCALENDAR