BEGIN:VCALENDAR
VERSION:2.0
PRODID:-//Prevent Child Abuse Indiana - ECPv6.15.20//NONSGML v1.0//EN
CALSCALE:GREGORIAN
METHOD:PUBLISH
X-WR-CALNAME:Prevent Child Abuse Indiana
X-ORIGINAL-URL:https://pcain.org
X-WR-CALDESC:Events for Prevent Child Abuse Indiana
REFRESH-INTERVAL;VALUE=DURATION:PT1H
X-Robots-Tag:noindex
X-PUBLISHED-TTL:PT1H
BEGIN:VTIMEZONE
TZID:America/Indiana/Indianapolis
BEGIN:DAYLIGHT
TZOFFSETFROM:-0500
TZOFFSETTO:-0400
TZNAME:EDT
DTSTART:20250309T070000
END:DAYLIGHT
BEGIN:STANDARD
TZOFFSETFROM:-0400
TZOFFSETTO:-0500
TZNAME:EST
DTSTART:20251102T060000
END:STANDARD
BEGIN:DAYLIGHT
TZOFFSETFROM:-0500
TZOFFSETTO:-0400
TZNAME:EDT
DTSTART:20260308T070000
END:DAYLIGHT
BEGIN:STANDARD
TZOFFSETFROM:-0400
TZOFFSETTO:-0500
TZNAME:EST
DTSTART:20261101T060000
END:STANDARD
BEGIN:DAYLIGHT
TZOFFSETFROM:-0500
TZOFFSETTO:-0400
TZNAME:EDT
DTSTART:20270314T070000
END:DAYLIGHT
BEGIN:STANDARD
TZOFFSETFROM:-0400
TZOFFSETTO:-0500
TZNAME:EST
DTSTART:20271107T060000
END:STANDARD
END:VTIMEZONE
BEGIN:VEVENT
DTSTART;TZID=America/Indiana/Indianapolis:20260425T110000
DTEND;TZID=America/Indiana/Indianapolis:20260425T110000
DTSTAMP:20260425T110721
CREATED:20260313T150120Z
LAST-MODIFIED:20260313T150124Z
UID:7354-1777114800-1777114800@pcain.org
SUMMARY:Pinwheel Festival of Harrison County
DESCRIPTION:Pinwheel Festival of Harrison County  \nThis event is hosted by the Harrison County Prevent Child Abuse Council  \nThe Pinwheel Festival invites all the local agencies to bring their resources and materials as well as fun games and prizes to promote child wellness and family engagement.  \n📅 Date: April 25\, 2026  \n⏰ Time: 11:00AM  \n📍 Location: 213 E Chestnut St Corydon\, IN 47117\n📝 Registration: Registration & Event Details  \n💲 Cost: Free  \n📞 Event Contact: Danielle McMillin\, dmcmillin@brsinc.org\, 812-364-1142 
URL:https://pcain.org/event/pinwheel-festival-of-harrison-county/
END:VEVENT
END:VCALENDAR